BEGIN:VCALENDAR
VERSION:2.0
PRODID:-//pretix//events.dd-ix.net//
BEGIN:VTIMEZONE
TZID:Europe/Berlin
BEGIN:STANDARD
DTSTART:20001029T040000
RRULE:FREQ=YEARLY;BYDAY=-1SU;BYMONTH=10
TZNAME:CET
TZOFFSETFROM:+0200
TZOFFSETTO:+0100
END:STANDARD
BEGIN:DAYLIGHT
DTSTART:20000326T030000
RRULE:FREQ=YEARLY;BYDAY=-1SU;BYMONTH=3
TZNAME:CEST
TZOFFSETFROM:+0100
TZOFFSETTO:+0200
END:DAYLIGHT
END:VTIMEZONE
BEGIN:VEVENT
UID:pretix-dd-ix-otm-5-0@tickets.dd-ix.net
DTSTART;TZID=Europe/Berlin:20260507T180000
DTEND;TZID=Europe/Berlin:20260507T235959
DESCRIPTION:Tickets: https://tickets.dd-ix.net/otm-5/\nOrganizer: Dresden I
 nternet Exchange e.V.
DTSTAMP:20260424T001024Z
LOCATION:Lohrmanns Brauerei & Restaurant\, Kraftwerk Mitte 6\, 01067
SUMMARY:5th Open Tech Meetup
END:VEVENT
END:VCALENDAR
